BEGIN:VCALENDAR
VERSION:2.0
PRODID:www.constiagenda.nl/ical
X-APPLE-CALENDAR-COLOR:#47A8BD
X-OUTLOOK-COLOR:#47A8BD
X-FUNAMBOL-COLOR:#47A8BD
X-WR-CALNAME:Constiagenda.nl
X-WR-CALDESC:Jouw betrouwbare bron voor consti's
BEGIN:VEVENT
UID:69e618910e823
DTSTART:20220517T190000Z
SEQUENCE:0
TRANSP:OPAQUE
DTEND:20220517T210000Z
URL:https://www.constiagenda.nl/event/asci-consti-2022
LOCATION:Villa Volonté\, Schuitendiep 86\, 9711 RG Groningen
SUMMARY:ASCI
CLASS:PUBLIC
DTSTAMP:20260420T121409Z
END:VEVENT
END:VCALENDAR