BEGIN:VCALENDAR
VERSION:2.0
PRODID:www.constiagenda.nl/ical
X-APPLE-CALENDAR-COLOR:#47A8BD
X-OUTLOOK-COLOR:#47A8BD
X-FUNAMBOL-COLOR:#47A8BD
X-WR-CALNAME:Constiagenda.nl
X-WR-CALDESC:Jouw betrouwbare bron voor consti's
BEGIN:VEVENT
UID:69e8e50fa2278
DTSTART:20210923T170000Z
SEQUENCE:0
TRANSP:OPAQUE
DTEND:20210923T190000Z
URL:https://www.constiagenda.nl/event/commotie-consti-2021
LOCATION:'t Golden Fust\, Poelestraat 15\, 9712 KB Groningen
SUMMARY:Commotie
CLASS:PUBLIC
DTSTAMP:20260422T151111Z
END:VEVENT
END:VCALENDAR